BEGIN:VCALENDAR
VERSION:2.0
PRODID:-//Wilshire Square Neighborhood Association - ECPv6.15.20//NONSGML v1.0//EN
CALSCALE:GREGORIAN
METHOD:PUBLISH
X-ORIGINAL-URL:https://www.wilshiresquare.org
X-WR-CALDESC:Events for Wilshire Square Neighborhood Association
REFRESH-INTERVAL;VALUE=DURATION:PT1H
X-Robots-Tag:noindex
X-PUBLISHED-TTL:PT1H
BEGIN:VTIMEZONE
TZID:America/Los_Angeles
BEGIN:DAYLIGHT
TZOFFSETFROM:-0800
TZOFFSETTO:-0700
TZNAME:PDT
DTSTART:20250309T100000
END:DAYLIGHT
BEGIN:STANDARD
TZOFFSETFROM:-0700
TZOFFSETTO:-0800
TZNAME:PST
DTSTART:20251102T090000
END:STANDARD
BEGIN:DAYLIGHT
TZOFFSETFROM:-0800
TZOFFSETTO:-0700
TZNAME:PDT
DTSTART:20260308T100000
END:DAYLIGHT
BEGIN:STANDARD
TZOFFSETFROM:-0700
TZOFFSETTO:-0800
TZNAME:PST
DTSTART:20261101T090000
END:STANDARD
BEGIN:DAYLIGHT
TZOFFSETFROM:-0800
TZOFFSETTO:-0700
TZNAME:PDT
DTSTART:20270314T100000
END:DAYLIGHT
BEGIN:STANDARD
TZOFFSETFROM:-0700
TZOFFSETTO:-0800
TZNAME:PST
DTSTART:20271107T090000
END:STANDARD
END:VTIMEZONE
BEGIN:VEVENT
DTSTART;TZID=America/Los_Angeles:20260107T183000
DTEND;TZID=America/Los_Angeles:20260107T200000
DTSTAMP:20260420T171733
CREATED:20251215T181827Z
LAST-MODIFIED:20260103T183346Z
UID:1548-1767810600-1767816000@www.wilshiresquare.org
SUMMARY:January 2026 Meeting
DESCRIPTION:Social Hour 6:30-7PM\nMeeting 7-8PM
URL:https://www.wilshiresquare.org/calendar-event/january-2026-meeting/
LOCATION:1305 S Birch\, 1305 S Birch St\, Santa Ana\, CA\, 92707\, United States
END:VEVENT
BEGIN:VEVENT
DTSTART;TZID=America/Los_Angeles:20260204T183000
DTEND;TZID=America/Los_Angeles:20260204T200000
DTSTAMP:20260420T171733
CREATED:20251215T181915Z
LAST-MODIFIED:20260131T013039Z
UID:1550-1770229800-1770235200@www.wilshiresquare.org
SUMMARY:February 2026 Meeting
DESCRIPTION:
URL:https://www.wilshiresquare.org/calendar-event/february-2026-meeting/
LOCATION:1107 S Van Ness\, 1107 S Van Ness Ave\, Santa Ana\, CA\, 92707\, United States
END:VEVENT
BEGIN:VEVENT
DTSTART;TZID=America/Los_Angeles:20260304T183000
DTEND;TZID=America/Los_Angeles:20260304T200000
DTSTAMP:20260420T171733
CREATED:20251215T181949Z
LAST-MODIFIED:20251215T181949Z
UID:1552-1772649000-1772654400@www.wilshiresquare.org
SUMMARY:March 2026 Meeting
DESCRIPTION:
URL:https://www.wilshiresquare.org/calendar-event/march-2026-meeting/
LOCATION:TBD
END:VEVENT
BEGIN:VEVENT
DTSTART;TZID=America/Los_Angeles:20260307T080000
DTEND;TZID=America/Los_Angeles:20260307T120000
DTSTAMP:20260420T171733
CREATED:20260131T014032Z
LAST-MODIFIED:20260131T014032Z
UID:1584-1772870400-1772884800@www.wilshiresquare.org
SUMMARY:Dumpster Day
DESCRIPTION:
URL:https://www.wilshiresquare.org/calendar-event/dumpster-day/
LOCATION:TBD
END:VEVENT
BEGIN:VEVENT
DTSTART;TZID=America/Los_Angeles:20260401T183000
DTEND;TZID=America/Los_Angeles:20260401T200000
DTSTAMP:20260420T171733
CREATED:20251215T182023Z
LAST-MODIFIED:20260330T151007Z
UID:1554-1775068200-1775073600@www.wilshiresquare.org
SUMMARY:April 2026 Meeting
DESCRIPTION:
URL:https://www.wilshiresquare.org/calendar-event/april-2026-meeting/
LOCATION:1214 S Birch St\, 1214 S Birch St\, Santa Ana\, CA\, 92707\, United States
END:VEVENT
BEGIN:VEVENT
DTSTART;TZID=America/Los_Angeles:20260506T183000
DTEND;TZID=America/Los_Angeles:20260506T200000
DTSTAMP:20260420T171733
CREATED:20251215T182051Z
LAST-MODIFIED:20260131T013336Z
UID:1556-1778092200-1778097600@www.wilshiresquare.org
SUMMARY:May 2026 Meeting
DESCRIPTION:
URL:https://www.wilshiresquare.org/calendar-event/may-2026-meeting/
LOCATION:1226 S Birch St\, 1226 S Birch St\, Santa Ana\, CA\, 92707\, United States
END:VEVENT
BEGIN:VEVENT
DTSTART;TZID=America/Los_Angeles:20260603T183000
DTEND;TZID=America/Los_Angeles:20260603T200000
DTSTAMP:20260420T171733
CREATED:20251215T182121Z
LAST-MODIFIED:20260131T013410Z
UID:1558-1780511400-1780516800@www.wilshiresquare.org
SUMMARY:June 2026 Meeting
DESCRIPTION:
URL:https://www.wilshiresquare.org/calendar-event/june-2026-meeting/
LOCATION:1205 S Birch\, 1205 S Birch ST\, Santa Ana\, CA\, 92707\, United States
END:VEVENT
BEGIN:VEVENT
DTSTART;TZID=America/Los_Angeles:20260725T190000
DTEND;TZID=America/Los_Angeles:20260725T220000
DTSTAMP:20260420T171733
CREATED:20251215T182202Z
LAST-MODIFIED:20251215T182202Z
UID:1560-1785006000-1785016800@www.wilshiresquare.org
SUMMARY:Summer Concert
DESCRIPTION:
URL:https://www.wilshiresquare.org/calendar-event/summer-concert-2/
LOCATION:Ross and Russell\, 1200 S Ross St\, Santa Ana\, CA\, 92707\, United States
END:VEVENT
BEGIN:VEVENT
DTSTART;TZID=America/Los_Angeles:20260805T183000
DTEND;TZID=America/Los_Angeles:20260805T200000
DTSTAMP:20260420T171733
CREATED:20260131T013530Z
LAST-MODIFIED:20260131T013530Z
UID:1574-1785954600-1785960000@www.wilshiresquare.org
SUMMARY:August 2026 Meeting
DESCRIPTION:
URL:https://www.wilshiresquare.org/calendar-event/august-2026-meeting/
LOCATION:1146 S Ross St\, 1146 S Ross St\, Santa Ana\, CA\, 92707\, United States
END:VEVENT
BEGIN:VEVENT
DTSTART;TZID=America/Los_Angeles:20260902T183000
DTEND;TZID=America/Los_Angeles:20260902T200000
DTSTAMP:20260420T171733
CREATED:20260131T013619Z
LAST-MODIFIED:20260131T013619Z
UID:1577-1788373800-1788379200@www.wilshiresquare.org
SUMMARY:September 2026 Meeting
DESCRIPTION:
URL:https://www.wilshiresquare.org/calendar-event/september-2026-meeting/
LOCATION:1229 S Birch\, 1229 S Birch St\, Santa Ana\, CA\, 92707\, United States
END:VEVENT
BEGIN:VEVENT
DTSTART;TZID=America/Los_Angeles:20261007T183000
DTEND;TZID=America/Los_Angeles:20261007T200000
DTSTAMP:20260420T171733
CREATED:20260131T013833Z
LAST-MODIFIED:20260131T013833Z
UID:1579-1791397800-1791403200@www.wilshiresquare.org
SUMMARY:October 2026 Meeting
DESCRIPTION:
URL:https://www.wilshiresquare.org/calendar-event/october-2026-meeting/
LOCATION:1318 S Birch\, 1318 S Birch St\, Santa Ana\, CA\, 92707\, United States
END:VEVENT
BEGIN:VEVENT
DTSTART;TZID=America/Los_Angeles:20261104T183000
DTEND;TZID=America/Los_Angeles:20261104T200000
DTSTAMP:20260420T171733
CREATED:20260131T013919Z
LAST-MODIFIED:20260131T013919Z
UID:1582-1793817000-1793822400@www.wilshiresquare.org
SUMMARY:November 2026 Meeting
DESCRIPTION:
URL:https://www.wilshiresquare.org/calendar-event/november-2026-meeting/
LOCATION:1412 S Ross St\, 1412 S Ross St\, Santa Ana\, CA\, 92707\, United States
END:VEVENT
BEGIN:VEVENT
DTSTART;TZID=America/Los_Angeles:20261205T130000
DTEND;TZID=America/Los_Angeles:20261205T180000
DTSTAMP:20260420T171733
CREATED:20251215T182240Z
LAST-MODIFIED:20251215T182240Z
UID:1562-1796475600-1796493600@www.wilshiresquare.org
SUMMARY:Holiday Parade
DESCRIPTION:
URL:https://www.wilshiresquare.org/calendar-event/holiday-parade/
LOCATION:Ross and Russell\, 1200 S Ross St\, Santa Ana\, CA\, 92707\, United States
END:VEVENT
END:VCALENDAR